Package: pairedGSEA Version: 1.8.0 Command: /home/biocbuild/R/R/bin/R CMD INSTALL pairedGSEA StartedAt: 2025-10-13 20:49:38 -0000 (Mon, 13 Oct 2025) EndedAt: 2025-10-13 20:50:27 -0000 (Mon, 13 Oct 2025) EllapsedTime: 48.6 seconds RetCode: 0 Status: OK