Package: pairedGSEA Version: 1.8.0 Command: /home/biocbuild/R/R/bin/R CMD build --keep-empty-dirs --no-resave-data pairedGSEA StartedAt: 2025-10-14 03:22:23 -0000 (Tue, 14 Oct 2025) EndedAt: 2025-10-14 03:25:26 -0000 (Tue, 14 Oct 2025) EllapsedTime: 183.4 seconds RetCode: 0 Status: OK PackageFile: pairedGSEA_1.8.0.tar.gz PackageFileSize: 593.5 KiB