Package: pairedGSEA Version: 1.8.0 Command: rm -rf pairedGSEA.buildbin-libdir && mkdir pairedGSEA.buildbin-libdir && /Users/biocbuild/BBS/utils/build-universal.sh pairedGSEA_1.8.0.tar.gz /Library/Frameworks/R.framework/Resources/bin/R pairedGSEA.buildbin-libdir StartedAt: 2025-04-21 22:45:46 -0400 (Mon, 21 Apr 2025) EndedAt: 2025-04-21 22:46:02 -0400 (Mon, 21 Apr 2025) EllapsedTime: 15.4 seconds RetCode: 0 Status: OK PackageFile: pairedGSEA_1.8.0.tgz PackageFileSize: 673.8 KiB