Package: paircompviz Version: 1.48.0 Command: /home/biocbuild/R/R/bin/R CMD INSTALL paircompviz StartedAt: 2025-11-13 21:21:17 -0000 (Thu, 13 Nov 2025) EndedAt: 2025-11-13 21:21:25 -0000 (Thu, 13 Nov 2025) EllapsedTime: 7.7 seconds RetCode: 0 Status: OK