Package: paircompviz Version: 1.48.0 Command: /home/biocbuild/R/R/bin/R CMD build --keep-empty-dirs --no-resave-data paircompviz StartedAt: 2025-11-14 04:00:19 -0000 (Fri, 14 Nov 2025) EndedAt: 2025-11-14 04:00:36 -0000 (Fri, 14 Nov 2025) EllapsedTime: 17.0 seconds RetCode: 0 Status: OK PackageFile: paircompviz_1.48.0.tar.gz PackageFileSize: 343.9 KiB