Package: paircompviz Version: 1.46.0 Command: /Library/Frameworks/R.framework/Resources/bin/R CMD build --keep-empty-dirs --no-resave-data paircompviz StartedAt: 2025-10-10 06:35:00 -0400 (Fri, 10 Oct 2025) EndedAt: 2025-10-10 06:35:28 -0400 (Fri, 10 Oct 2025) EllapsedTime: 27.8 seconds RetCode: 0 Status: OK PackageFile: paircompviz_1.46.0.tar.gz PackageFileSize: 354.1 KiB