Package: paircompviz Version: 1.46.0 Command: rm -rf paircompviz.buildbin-libdir && mkdir paircompviz.buildbin-libdir && /Users/biocbuild/BBS/utils/build-universal.sh paircompviz_1.46.0.tar.gz /Library/Frameworks/R.framework/Resources/bin/R paircompviz.buildbin-libdir StartedAt: 2025-10-11 21:28:21 -0400 (Sat, 11 Oct 2025) EndedAt: 2025-10-11 21:28:28 -0400 (Sat, 11 Oct 2025) EllapsedTime: 6.8 seconds RetCode: 0 Status: OK PackageFile: paircompviz_1.46.0.tgz PackageFileSize: 337.5 KiB