Package: pageRank Version: 1.18.0 Command: /home/biocbuild/R/R/bin/R CMD INSTALL pageRank StartedAt: 2025-10-13 21:09:53 -0000 (Mon, 13 Oct 2025) EndedAt: 2025-10-13 21:10:47 -0000 (Mon, 13 Oct 2025) EllapsedTime: 53.8 seconds RetCode: 0 Status: OK