Package: pageRank Version: 1.18.0 Command: /home/biocbuild/R/R/bin/R CMD build --keep-empty-dirs --no-resave-data pageRank StartedAt: 2025-10-14 03:19:38 -0000 (Tue, 14 Oct 2025) EndedAt: 2025-10-14 03:23:55 -0000 (Tue, 14 Oct 2025) EllapsedTime: 256.9 seconds RetCode: 0 Status: OK PackageFile: pageRank_1.18.0.tar.gz PackageFileSize: 119.4 KiB