Package: padma Version: 1.20.0 Command: /home/biocbuild/bbs-3.22-bioc/R/bin/R CMD INSTALL padma StartedAt: 2025-11-14 15:23:05 -0500 (Fri, 14 Nov 2025) EndedAt: 2025-11-14 15:23:36 -0500 (Fri, 14 Nov 2025) EllapsedTime: 31.5 seconds RetCode: 0 Status: OK