Package: packFinder Version: 1.22.0 Command: /home/biocbuild/bbs-3.22-bioc/R/bin/R CMD check --install=check:packFinder.install-out.txt --library=/home/biocbuild/bbs-3.22-bioc/R/site-library --timings packFinder_1.22.0.tar.gz StartedAt: 2025-11-18 06:53:10 -0500 (Tue, 18 Nov 2025) EndedAt: 2025-11-18 06:54:06 -0500 (Tue, 18 Nov 2025) EllapsedTime: 56.0 seconds RetCode: 0 Status: OK CheckDir: packFinder.Rcheck Warnings: 0