Package: packFinder Version: 1.22.0 Command: /Library/Frameworks/R.framework/Resources/bin/R CMD build --keep-empty-dirs --no-resave-data packFinder StartedAt: 2025-11-03 18:07:46 -0500 (Mon, 03 Nov 2025) EndedAt: 2025-11-03 18:08:08 -0500 (Mon, 03 Nov 2025) EllapsedTime: 21.8 seconds RetCode: 0 Status: OK PackageFile: packFinder_1.22.0.tar.gz PackageFileSize: 1.133 MiB