Package: packFinder Version: 1.20.0 Command: /home/biocbuild/R/R/bin/R CMD INSTALL packFinder StartedAt: 2025-10-13 20:27:52 -0000 (Mon, 13 Oct 2025) EndedAt: 2025-10-13 20:27:55 -0000 (Mon, 13 Oct 2025) EllapsedTime: 2.6 seconds RetCode: 0 Status: OK