Package: pRolocGUI Version: 2.20.0 Command: /home/biocbuild/R/R/bin/R CMD INSTALL pRolocGUI StartedAt: 2025-11-13 21:48:36 -0000 (Thu, 13 Nov 2025) EndedAt: 2025-11-13 21:49:46 -0000 (Thu, 13 Nov 2025) EllapsedTime: 69.6 seconds RetCode: 0 Status: OK