Package: pRolocGUI Version: 2.20.0 Command: /home/biocbuild/R/R/bin/R CMD build --keep-empty-dirs --no-resave-data pRolocGUI StartedAt: 2025-11-14 04:18:06 -0000 (Fri, 14 Nov 2025) EndedAt: 2025-11-14 04:19:42 -0000 (Fri, 14 Nov 2025) EllapsedTime: 96.0 seconds RetCode: 0 Status: OK PackageFile: pRolocGUI_2.20.0.tar.gz PackageFileSize: 3.054 MiB