Package: pRolocGUI Version: 2.20.0 Command: /home/biocbuild/bbs-3.22-bioc/R/bin/R CMD INSTALL pRolocGUI StartedAt: 2025-11-11 15:43:04 -0500 (Tue, 11 Nov 2025) EndedAt: 2025-11-11 15:43:56 -0500 (Tue, 11 Nov 2025) EllapsedTime: 51.8 seconds RetCode: 0 Status: OK