Package: pRolocGUI Version: 2.20.0 Command: /home/biocbuild/bbs-3.22-bioc/R/bin/R CMD check --install=check:pRolocGUI.install-out.txt --library=/home/biocbuild/bbs-3.22-bioc/R/site-library --timings pRolocGUI_2.20.0.tar.gz StartedAt: 2025-11-12 02:56:58 -0500 (Wed, 12 Nov 2025) EndedAt: 2025-11-12 03:05:46 -0500 (Wed, 12 Nov 2025) EllapsedTime: 528.4 seconds RetCode: 0 Status: OK CheckDir: pRolocGUI.Rcheck Warnings: 0