Package: pRolocGUI Version: 2.18.0 Command: /home/biocbuild/bbs-3.21-bioc/R/bin/R CMD INSTALL pRolocGUI StartedAt: 2025-09-28 15:53:01 -0400 (Sun, 28 Sep 2025) EndedAt: 2025-09-28 15:53:54 -0400 (Sun, 28 Sep 2025) EllapsedTime: 53.0 seconds RetCode: 0 Status: OK