Package: pRolocGUI Version: 2.18.0 Command: /Library/Frameworks/R.framework/Resources/bin/R CMD INSTALL pRolocGUI StartedAt: 2025-10-13 16:17:45 -0400 (Mon, 13 Oct 2025) EndedAt: 2025-10-13 16:19:38 -0400 (Mon, 13 Oct 2025) EllapsedTime: 112.5 seconds RetCode: 0 Status: OK