Package: pRolocGUI Version: 2.18.0 Command: rm -rf pRolocGUI.buildbin-libdir && mkdir pRolocGUI.buildbin-libdir && /Users/biocbuild/BBS/utils/build-universal.sh pRolocGUI_2.18.0.tar.gz /Library/Frameworks/R.framework/Resources/bin/R pRolocGUI.buildbin-libdir StartedAt: 2025-10-14 14:25:35 -0400 (Tue, 14 Oct 2025) EndedAt: 2025-10-14 14:28:02 -0400 (Tue, 14 Oct 2025) EllapsedTime: 147.0 seconds RetCode: 0 Status: OK PackageFile: pRolocGUI_2.18.0.tgz PackageFileSize: 1.774 MiB