Package: pRoloc Version: 1.50.0 Command: /home/biocbuild/R/R/bin/R CMD INSTALL pRoloc StartedAt: 2025-11-13 21:46:35 -0000 (Thu, 13 Nov 2025) EndedAt: 2025-11-13 21:48:31 -0000 (Thu, 13 Nov 2025) EllapsedTime: 116.0 seconds RetCode: 0 Status: OK