Package: pRoloc Version: 1.50.0 Command: /home/biocbuild/R/R/bin/R CMD build --keep-empty-dirs --no-resave-data pRoloc StartedAt: 2025-11-14 04:17:54 -0000 (Fri, 14 Nov 2025) EndedAt: 2025-11-14 04:23:39 -0000 (Fri, 14 Nov 2025) EllapsedTime: 345.1 seconds RetCode: 0 Status: OK PackageFile: pRoloc_1.50.0.tar.gz PackageFileSize: 7.593 MiB