Package: pRoloc Version: 1.50.0 Command: /home/biocbuild/bbs-3.22-bioc/R/bin/R CMD INSTALL pRoloc StartedAt: 2025-11-11 15:41:40 -0500 (Tue, 11 Nov 2025) EndedAt: 2025-11-11 15:43:04 -0500 (Tue, 11 Nov 2025) EllapsedTime: 83.9 seconds RetCode: 0 Status: OK