Package: pRoloc Version: 1.50.0 Command: /home/biocbuild/bbs-3.22-bioc/R/bin/R CMD check --install=check:pRoloc.install-out.txt --library=/home/biocbuild/bbs-3.22-bioc/R/site-library --timings pRoloc_1.50.0.tar.gz StartedAt: 2025-11-12 02:56:55 -0500 (Wed, 12 Nov 2025) EndedAt: 2025-11-12 03:20:20 -0500 (Wed, 12 Nov 2025) EllapsedTime: 1405.5 seconds RetCode: 0 Status: WARNINGS CheckDir: pRoloc.Rcheck Warnings: 3