Package: pRoloc Version: 1.48.0 Command: /Library/Frameworks/R.framework/Resources/bin/R CMD INSTALL pRoloc StartedAt: 2025-04-21 15:34:23 -0400 (Mon, 21 Apr 2025) EndedAt: 2025-04-21 15:36:08 -0400 (Mon, 21 Apr 2025) EllapsedTime: 104.9 seconds RetCode: 0 Status: OK