Package: pRoloc Version: 1.48.0 Command: /Library/Frameworks/R.framework/Resources/bin/R CMD INSTALL pRoloc StartedAt: 2025-09-29 17:10:43 -0400 (Mon, 29 Sep 2025) EndedAt: 2025-09-29 17:12:14 -0400 (Mon, 29 Sep 2025) EllapsedTime: 90.7 seconds RetCode: 0 Status: OK