Package: pRoloc Version: 1.48.0 Command: /Library/Frameworks/R.framework/Resources/bin/R CMD build --keep-empty-dirs --no-resave-data pRoloc StartedAt: 2025-09-30 06:52:50 -0400 (Tue, 30 Sep 2025) EndedAt: 2025-09-30 06:57:14 -0400 (Tue, 30 Sep 2025) EllapsedTime: 264.2 seconds RetCode: 0 Status: OK PackageFile: pRoloc_1.48.0.tar.gz PackageFileSize: 10.95 MiB