Package: pRoloc Version: 1.48.0 Command: rm -rf pRoloc.buildbin-libdir && mkdir pRoloc.buildbin-libdir && /Users/biocbuild/BBS/utils/build-universal.sh pRoloc_1.48.0.tar.gz /Library/Frameworks/R.framework/Resources/bin/R pRoloc.buildbin-libdir StartedAt: 2025-09-27 18:51:25 -0400 (Sat, 27 Sep 2025) EndedAt: 2025-09-27 18:53:08 -0400 (Sat, 27 Sep 2025) EllapsedTime: 103.4 seconds RetCode: 0 Status: OK PackageFile: pRoloc_1.48.0.tgz PackageFileSize: 10.25 MiB