Package: orthos Version: 1.8.0 Command: /home/biocbuild/bbs-3.22-bioc/R/bin/R CMD INSTALL orthos StartedAt: 2025-11-11 15:40:12 -0500 (Tue, 11 Nov 2025) EndedAt: 2025-11-11 15:40:37 -0500 (Tue, 11 Nov 2025) EllapsedTime: 24.6 seconds RetCode: 0 Status: OK