Package: orthos Version: 1.8.0 Command: /home/biocbuild/bbs-3.22-bioc/R/bin/R CMD build --keep-empty-dirs --no-resave-data --md5 orthos StartedAt: 2025-11-11 19:14:28 -0500 (Tue, 11 Nov 2025) EndedAt: 2025-11-11 19:18:46 -0500 (Tue, 11 Nov 2025) EllapsedTime: 257.3 seconds RetCode: 0 Status: OK PackageFile: orthos_1.8.0.tar.gz PackageFileSize: 2.867 MiB