Package: orthos Version: 1.8.0 Command: /Library/Frameworks/R.framework/Resources/bin/R CMD build --keep-empty-dirs --no-resave-data orthos StartedAt: 2025-11-10 17:16:37 -0500 (Mon, 10 Nov 2025) EndedAt: 2025-11-10 17:18:23 -0500 (Mon, 10 Nov 2025) EllapsedTime: 106.1 seconds RetCode: 1 Status: ERROR PackageFile: None PackageFileSize: NA