Package: orthogene Version: 1.16.0 Command: /Library/Frameworks/R.framework/Resources/bin/R CMD INSTALL orthogene StartedAt: 2025-11-10 15:08:52 -0500 (Mon, 10 Nov 2025) EndedAt: 2025-11-10 15:08:57 -0500 (Mon, 10 Nov 2025) EllapsedTime: 5.0 seconds RetCode: 0 Status: OK