Package: orthogene Version: 1.16.0 Command: rm -rf orthogene.buildbin-libdir && mkdir orthogene.buildbin-libdir && /Users/biocbuild/BBS/utils/build-universal.sh orthogene_1.16.0.tar.gz /Library/Frameworks/R.framework/Resources/bin/R orthogene.buildbin-libdir StartedAt: 2025-11-10 23:30:25 -0500 (Mon, 10 Nov 2025) EndedAt: 2025-11-10 23:30:30 -0500 (Mon, 10 Nov 2025) EllapsedTime: 5.1 seconds RetCode: 0 Status: OK PackageFile: orthogene_1.16.0.tgz PackageFileSize: 2.844 MiB