Package: optimalFlow Version: 1.22.0 Command: /home/biocbuild/R/R/bin/R CMD INSTALL optimalFlow StartedAt: 2025-11-13 21:20:34 -0000 (Thu, 13 Nov 2025) EndedAt: 2025-11-13 21:20:55 -0000 (Thu, 13 Nov 2025) EllapsedTime: 21.4 seconds RetCode: 0 Status: OK