Package: optimalFlow Version: 1.22.0 Command: /home/biocbuild/R/R/bin/R CMD build --keep-empty-dirs --no-resave-data optimalFlow StartedAt: 2025-11-14 03:56:04 -0000 (Fri, 14 Nov 2025) EndedAt: 2025-11-14 04:03:27 -0000 (Fri, 14 Nov 2025) EllapsedTime: 443.5 seconds RetCode: 0 Status: OK PackageFile: optimalFlow_1.22.0.tar.gz PackageFileSize: 1.049 MiB