Package: optimalFlow Version: 1.22.0 Command: /home/biocbuild/bbs-3.22-bioc/R/bin/R CMD INSTALL optimalFlow StartedAt: 2025-11-11 15:18:06 -0500 (Tue, 11 Nov 2025) EndedAt: 2025-11-11 15:18:27 -0500 (Tue, 11 Nov 2025) EllapsedTime: 20.3 seconds RetCode: 0 Status: OK