Package: optimalFlow Version: 1.20.0 Command: /home/biocbuild/bbs-3.21-bioc/R/bin/R CMD INSTALL optimalFlow StartedAt: 2025-10-01 15:16:16 -0400 (Wed, 01 Oct 2025) EndedAt: 2025-10-01 15:16:34 -0400 (Wed, 01 Oct 2025) EllapsedTime: 18.0 seconds RetCode: 0 Status: OK