Package: optimalFlow Version: 1.20.0 Command: /Library/Frameworks/R.framework/Resources/bin/R CMD INSTALL optimalFlow StartedAt: 2025-10-13 15:25:37 -0400 (Mon, 13 Oct 2025) EndedAt: 2025-10-13 15:26:21 -0400 (Mon, 13 Oct 2025) EllapsedTime: 44.1 seconds RetCode: 0 Status: OK