Package: optimalFlow Version: 1.20.0 Command: /Library/Frameworks/R.framework/Resources/bin/R CMD build --keep-empty-dirs --no-resave-data optimalFlow StartedAt: 2025-04-21 17:49:01 -0400 (Mon, 21 Apr 2025) EndedAt: 2025-04-21 17:57:50 -0400 (Mon, 21 Apr 2025) EllapsedTime: 528.6 seconds RetCode: 0 Status: OK PackageFile: optimalFlow_1.20.0.tar.gz PackageFileSize: 1.272 MiB