Package: optimalFlow Version: 1.20.0 Command: /Library/Frameworks/R.framework/Resources/bin/R CMD INSTALL optimalFlow StartedAt: 2025-10-02 15:38:20 -0400 (Thu, 02 Oct 2025) EndedAt: 2025-10-02 15:38:41 -0400 (Thu, 02 Oct 2025) EllapsedTime: 20.9 seconds RetCode: 0 Status: OK