Package: optimalFlow Version: 1.20.0 Command: rm -rf optimalFlow.buildbin-libdir && mkdir optimalFlow.buildbin-libdir && /Users/biocbuild/BBS/utils/build-universal.sh optimalFlow_1.20.0.tar.gz /Library/Frameworks/R.framework/Resources/bin/R optimalFlow.buildbin-libdir StartedAt: 2025-10-04 19:10:43 -0400 (Sat, 04 Oct 2025) EndedAt: 2025-10-04 19:11:07 -0400 (Sat, 04 Oct 2025) EllapsedTime: 24.8 seconds RetCode: 0 Status: OK PackageFile: optimalFlow_1.20.0.tgz PackageFileSize: 1.101 MiB