Package: oppar Version: 1.38.0 Command: /home/biocbuild/bbs-3.22-bioc/R/bin/R CMD INSTALL oppar StartedAt: 2025-11-16 16:00:17 -0500 (Sun, 16 Nov 2025) EndedAt: 2025-11-16 16:00:58 -0500 (Sun, 16 Nov 2025) EllapsedTime: 41.6 seconds RetCode: 0 Status: OK