Package: oppar Version: 1.38.0 Command: /home/biocbuild/bbs-3.22-bioc/R/bin/R CMD build --keep-empty-dirs --no-resave-data --md5 oppar StartedAt: 2025-11-16 19:14:57 -0500 (Sun, 16 Nov 2025) EndedAt: 2025-11-16 19:16:10 -0500 (Sun, 16 Nov 2025) EllapsedTime: 73.1 seconds RetCode: 0 Status: OK PackageFile: oppar_1.38.0.tar.gz PackageFileSize: 3.394 MiB