Package: oposSOM Version: 2.28.0 Command: /Library/Frameworks/R.framework/Resources/bin/R CMD build --keep-empty-dirs --no-resave-data oposSOM StartedAt: 2025-11-03 17:15:35 -0500 (Mon, 03 Nov 2025) EndedAt: 2025-11-03 17:15:53 -0500 (Mon, 03 Nov 2025) EllapsedTime: 18.2 seconds RetCode: 0 Status: OK PackageFile: oposSOM_2.28.0.tar.gz PackageFileSize: 13.35 MiB