Package: oposSOM Version: 2.28.0 Command: rm -rf oposSOM.buildbin-libdir && mkdir oposSOM.buildbin-libdir && /Users/biocbuild/BBS/utils/build-universal.sh oposSOM_2.28.0.tar.gz /Library/Frameworks/R.framework/Resources/bin/R oposSOM.buildbin-libdir StartedAt: 2025-11-04 23:13:53 -0500 (Tue, 04 Nov 2025) EndedAt: 2025-11-04 23:14:08 -0500 (Tue, 04 Nov 2025) EllapsedTime: 14.3 seconds RetCode: 0 Status: OK PackageFile: oposSOM_2.28.0.tgz PackageFileSize: 13.58 MiB