Package: openPrimeR Version: 1.32.0 Command: /home/biocbuild/R/R/bin/R CMD INSTALL openPrimeR StartedAt: 2025-11-10 22:00:02 -0000 (Mon, 10 Nov 2025) EndedAt: 2025-11-10 22:00:44 -0000 (Mon, 10 Nov 2025) EllapsedTime: 42.3 seconds RetCode: 0 Status: OK