Package: openPrimeR Version: 1.32.0 Command: /home/biocbuild/R/R/bin/R CMD build --keep-empty-dirs --no-resave-data openPrimeR StartedAt: 2025-11-14 03:55:22 -0000 (Fri, 14 Nov 2025) EndedAt: 2025-11-14 03:56:58 -0000 (Fri, 14 Nov 2025) EllapsedTime: 96.0 seconds RetCode: 0 Status: OK PackageFile: openPrimeR_1.32.0.tar.gz PackageFileSize: 1.877 MiB