Package: openPrimeR Version: 1.32.0 Command: /home/biocbuild/bbs-3.22-bioc/R/bin/R CMD check --install=check:openPrimeR.install-out.txt --library=/home/biocbuild/bbs-3.22-bioc/R/site-library --timings openPrimeR_1.32.0.tar.gz StartedAt: 2025-11-12 02:21:18 -0500 (Wed, 12 Nov 2025) EndedAt: 2025-11-12 02:25:55 -0500 (Wed, 12 Nov 2025) EllapsedTime: 277.3 seconds RetCode: 0 Status: OK CheckDir: openPrimeR.Rcheck Warnings: 0