Package: openPrimeR Version: 1.30.1 Command: /home/biocbuild/bbs-3.21-bioc/R/bin/R CMD INSTALL openPrimeR StartedAt: 2025-10-15 15:48:38 -0400 (Wed, 15 Oct 2025) EndedAt: 2025-10-15 15:49:07 -0400 (Wed, 15 Oct 2025) EllapsedTime: 28.9 seconds RetCode: 0 Status: OK