Package: openPrimeR Version: 1.30.1 Command: /home/biocbuild/R/R/bin/R CMD INSTALL openPrimeR StartedAt: 2025-09-25 21:07:30 -0000 (Thu, 25 Sep 2025) EndedAt: 2025-09-25 21:08:12 -0000 (Thu, 25 Sep 2025) EllapsedTime: 42.3 seconds RetCode: 0 Status: OK